BEGIN:VCALENDAR
VERSION:2.0
PRODID:icalendar-ruby
CALSCALE:GREGORIAN
METHOD:PUBLISH
BEGIN:VEVENT
DTSTAMP:20260424T233927Z
UID:6-2900230@stpaulsleetonia.com
DTSTART:20240306T173000Z
DTEND:20240306T183000Z
CLASS:PUBLIC
CREATED:20260424T181920
DESCRIPTION:
LAST-MODIFIED:20260424T181920
LOCATION:
SUMMARY:Bible Study
URL;VALUE=URI:https://www.stpaulsleetonia.com/events/bible-study/2024-03-06
ATTACH;FILENAME=bible1.png;FMTTYPE=image/png:https://dq5pwpg1q8ru0.cloudfro
 nt.net/2020/08/18/09/51/56/0ff286bd-cddd-4ea5-8f7f-5bf31a93f4f1/bible1.png
END:VEVENT
END:VCALENDAR
