BEGIN:VCALENDAR
VERSION:2.0
PRODID:icalendar-ruby
CALSCALE:GREGORIAN
METHOD:PUBLISH
BEGIN:VEVENT
DTSTAMP:20260425T125948Z
UID:6-2903474@stpaulsleetonia.com
DTSTART:20240515T163000Z
DTEND:20240515T173000Z
CLASS:PUBLIC
CREATED:20260425T065602
DESCRIPTION:
LAST-MODIFIED:20260425T065602
LOCATION:
SUMMARY:Bible Study
URL;VALUE=URI:https://www.stpaulsleetonia.com/events/bible-study/2024-05-15
ATTACH;FILENAME=bible1.png;FMTTYPE=image/png:https://dq5pwpg1q8ru0.cloudfro
 nt.net/2020/08/18/09/51/56/0ff286bd-cddd-4ea5-8f7f-5bf31a93f4f1/bible1.png
END:VEVENT
END:VCALENDAR
