BEGIN:VCALENDAR
VERSION:2.0
PRODID:icalendar-ruby
CALSCALE:GREGORIAN
METHOD:PUBLISH
BEGIN:VEVENT
DTSTAMP:20260423T101458Z
UID:8-2882810@stpaulsleetonia.com
DTSTART:20250101T210000Z
DTEND:20250101T220000Z
CLASS:PUBLIC
CREATED:20260422T213107
DESCRIPTION:
LAST-MODIFIED:20260422T213107
LOCATION:
SUMMARY:Wednesday Worship
URL;VALUE=URI:https://www.stpaulsleetonia.com/events/wednesday-worship/2025
 -01-01
ATTACH;FILENAME=SERMON.jpg;FMTTYPE=image/jpeg:https://dq5pwpg1q8ru0.cloudfr
 ont.net/2020/08/19/08/00/32/0ca28d7e-fc5e-409c-bc45-cf10240cbfa7/SERMON.jp
 g
END:VEVENT
END:VCALENDAR
